BEGIN:VCALENDAR
VERSION:2.0
BEGIN:VEVENT
DTSTART:20210715T103000
DURATION:PT00H00M00S
SUMMARY:[DEADLINE] ΔΙΑΧΕΙΡΙΣΗ ΔΕΔΟΜΕΝΩΝ ΚΑΙ ΣΤΑΤΙΣΤΙΚΗ ΕΠΕΞΕΡΓΑΣΙΑ ΔΕΔΟΜΕΝΩΝ
DESCRIPTION:(deadline: 2021-07-15 10:30:00)
BEGIN:VALARM
TRIGGER:-PT24H
DURATION:PT10H
ACTION:DISPLAY
DESCRIPTION:DEADLINE REMINDER for ΔΙΑΧΕΙΡΙΣΗ ΔΕΔΟΜΕΝΩΝ ΚΑΙ ΣΤΑΤΙΣΤΙΚΗ ΕΠΕΞΕΡΓΑΣΙΑ ΔΕΔΟΜΕΝΩΝ
END:VALARM
END:VEVENT
BEGIN:VEVENT
DTSTART:20250715T235500
DURATION:PT00H00M00S
SUMMARY:[DEADLINE] Διαχείριση Δεδομένων και Στατιστική Επεξεργασία Δεδομένων
DESCRIPTION:Ομαδική εργασία
(deadline: 2025-07-15 23:55:00)
BEGIN:VALARM
TRIGGER:-PT24H
DURATION:PT10H
ACTION:DISPLAY
DESCRIPTION:DEADLINE REMINDER for Διαχείριση Δεδομένων και Στατιστική Επεξεργασία Δεδομένων
END:VALARM
END:VEVENT
END:VCALENDAR
