BEGIN:VCALENDAR
VERSION:2.0
BEGIN:VEVENT
DTSTART:20260422T140502
DURATION:PT00H00M00S
SUMMARY:[DEADLINE] ΔΟΚΙΜΑΣΤΙΚΗ ΕΡΓΑΣΙΑ 
DESCRIPTION:
BEGIN:VALARM
TRIGGER:-PT24H
DURATION:PT10H
ACTION:DISPLAY
DESCRIPTION:DEADLINE REMINDER for ΔΟΚΙΜΑΣΤΙΚΗ ΕΡΓΑΣΙΑ
END:VALARM
END:VEVENT
BEGIN:VEVENT
DTSTART:20201209T145500
DURATION:PT00H00M00S
SUMMARY:[DEADLINE] Άσκηση ελέγχου βαθμού κατανόησης περιεχομένου ενότητας "Πλαίσια πληροφόρησης και ελέγχου"
DESCRIPTION:Σκοπός της άσκησης είναι να έρθετε σε επαφή με ερωτήσεις κλειστού τύπου.
(deadline: 2020-12-09 14:55:00)
BEGIN:VALARM
TRIGGER:-PT24H
DURATION:PT10H
ACTION:DISPLAY
DESCRIPTION:DEADLINE REMINDER for Άσκηση ελέγχου βαθμού κατανόησης περιεχομένου ενότητας "Πλαίσια πληροφόρησης και ελέγχου"
END:VALARM
END:VEVENT
BEGIN:VEVENT
DTSTART:20201209T160000
DURATION:PT00H00M00S
SUMMARY:[DEADLINE] ΥΠΟΒΟΛΗ ΠΟΛΛΑΠΛΩΝ ΑΡΧΕΙΩΝ
DESCRIPTION:Παρακαλείστε να υποβάλετε 2 αρχεία συνδυασμένα σε ένα, εμπρόθσμα, ως ακολούθως.
(deadline: 2020-12-09 16:00:00)
BEGIN:VALARM
TRIGGER:-PT24H
DURATION:PT10H
ACTION:DISPLAY
DESCRIPTION:DEADLINE REMINDER for ΥΠΟΒΟΛΗ ΠΟΛΛΑΠΛΩΝ ΑΡΧΕΙΩΝ
END:VALARM
END:VEVENT
END:VCALENDAR
