BEGIN:VCALENDAR
VERSION:2.0
BEGIN:VEVENT
DTSTART:20200620T235500
DURATION:PT00H00M00S
SUMMARY:[DEADLINE] Εργασίες για Μάθημα : "Συστήματα Πληροφορικής Υπηρεσιών Υγείας" 
DESCRIPTION:(deadline: 2020-06-20 23:55:00)
BEGIN:VALARM
TRIGGER:-PT24H
DURATION:PT10H
ACTION:DISPLAY
DESCRIPTION:DEADLINE REMINDER for Εργασίες για Μάθημα : "Συστήματα Πληροφορικής Υπηρεσιών Υγείας"
END:VALARM
END:VEVENT
END:VCALENDAR
