BEGIN:VCALENDAR
VERSION:2.0
BEGIN:VEVENT
DTSTART:20200630T235500
DURATION:PT00H00M00S
SUMMARY:[DEADLINE] Φάκελος ατομικών εργασιών για το μάθημα : "Η πρωτοβάθμια φροντίδα υγείας. Οι υπηρεσίες ψυχικής υγείας και οι υπηρεσίες αποκατάστασης στην Ελλάδα. Δημόσια Υγεία"
DESCRIPTION:(deadline: 2020-06-30 23:55:00)
BEGIN:VALARM
TRIGGER:-PT24H
DURATION:PT10H
ACTION:DISPLAY
DESCRIPTION:DEADLINE REMINDER for Φάκελος ατομικών εργασιών για το μάθημα : "Η πρωτοβάθμια φροντίδα υγείας. Οι υπηρεσίες ψυχικής υγείας και οι υπηρεσίες αποκατάστασης στην Ελλάδα. Δημόσια Υγεία"
END:VALARM
END:VEVENT
END:VCALENDAR
