BEGIN:VCALENDAR
VERSION:2.0
BEGIN:VEVENT
DTSTART:20200705T235500
DURATION:PT00H00M00S
SUMMARY:[DEADLINE] Φάκελος για ανάρτηση ατομικών εργασιών στο μάθημα : "Αγορά φαρμάκου και Βιοϊατρικής Τεχνολογίας"
DESCRIPTION:(deadline: 2020-07-05 23:55:00)
BEGIN:VALARM
TRIGGER:-PT24H
DURATION:PT10H
ACTION:DISPLAY
DESCRIPTION:DEADLINE REMINDER for Φάκελος για ανάρτηση ατομικών εργασιών στο μάθημα : "Αγορά φαρμάκου και Βιοϊατρικής Τεχνολογίας"
END:VALARM
END:VEVENT
END:VCALENDAR
