BEGIN:VCALENDAR
VERSION:2.0
BEGIN:VEVENT
DTSTART:20190930T235900
DURATION:PT00H00M00S
SUMMARY:[DEADLINE] Ατομικές εργασίες μαθήματος
DESCRIPTION:(deadline: 2019-09-30 23:59:00)
BEGIN:VALARM
TRIGGER:-PT24H
DURATION:PT10H
ACTION:DISPLAY
DESCRIPTION:DEADLINE REMINDER for Ατομικές εργασίες μαθήματος
END:VALARM
END:VEVENT
END:VCALENDAR
