BEGIN:VCALENDAR
VERSION:2.0
BEGIN:VEVENT
DTSTART:20260422T092704
DURATION:PT00H00M00S
SUMMARY:[DEADLINE] ΤΜΗΜΑ ΑΠΠ-ΔΕΥ
DESCRIPTION:
BEGIN:VALARM
TRIGGER:-PT24H
DURATION:PT10H
ACTION:DISPLAY
DESCRIPTION:DEADLINE REMINDER for ΤΜΗΜΑ ΑΠΠ-ΔΕΥ
END:VALARM
END:VEVENT
BEGIN:VEVENT
DTSTART:20260422T092704
DURATION:PT00H00M00S
SUMMARY:[DEADLINE] ΤΜΗΜΑ ΔΥΥ-ΚΦ-ΕΟΥ
DESCRIPTION:
BEGIN:VALARM
TRIGGER:-PT24H
DURATION:PT10H
ACTION:DISPLAY
DESCRIPTION:DEADLINE REMINDER for ΤΜΗΜΑ ΔΥΥ-ΚΦ-ΕΟΥ
END:VALARM
END:VEVENT
BEGIN:VEVENT
DTSTART:20260422T092704
DURATION:PT00H00M00S
SUMMARY:[DEADLINE] ΤΜΗΜΑ ΓΔ
DESCRIPTION:
BEGIN:VALARM
TRIGGER:-PT24H
DURATION:PT10H
ACTION:DISPLAY
DESCRIPTION:DEADLINE REMINDER for ΤΜΗΜΑ ΓΔ
END:VALARM
END:VEVENT
BEGIN:VEVENT
DTSTART:20260422T092704
DURATION:PT00H00M00S
SUMMARY:[DEADLINE] ΤΜΗΜΑ ΨΠ-ΠΔ
DESCRIPTION:
BEGIN:VALARM
TRIGGER:-PT24H
DURATION:PT10H
ACTION:DISPLAY
DESCRIPTION:DEADLINE REMINDER for ΤΜΗΜΑ ΨΠ-ΠΔ
END:VALARM
END:VEVENT
END:VCALENDAR
