BEGIN:VCALENDAR
VERSION:2.0
BEGIN:VEVENT
DTSTART:20190603T123000
DURATION:PT03H00M00S
SUMMARY:[COURSE] 1ο Μάθημα (Εισήγηση)
DESCRIPTION:Τίτλος Διδακτικής Ενότητας : Δημόσιος τομέας- Δημόσια Διοίκηση
Περιεχόμενο : 
Οριοθέτηση του δημόσιου τομέα
Κεντρική διοίκηση
Αποκεντρωμένη διοίκηση και Τοπική Αυτοδιοίκηση
Η κεντρική κρατική διοίκηση
Η διοικητική αποκέντρωση
Η τοπική αυτοδιοίκηση α’  και β’  βαθμού
END:VEVENT
BEGIN:VEVENT
DTSTART:20190607T123000
DURATION:PT03H00M00S
SUMMARY:[COURSE] 2ο Μάθημα (Εισήγηση)
DESCRIPTION:Τίτλος Διδακτικής Ενότητας : Εισαγωγή στις λειτουργίες της οργάνωσης και διοίκησης της δημόσιας διοίκησης
Περιεχόμενο :
Είδη διοίκησης
Διαχωρισμός λειτουργιών δημόσιου και ιδιωτικού χαρακτήρα - Δυσδιάκριτα όρια μεταξύ δημόσιου και ιδιωτικού τομέα 
Δημόσια διοίκηση, δημόσιο πρόβλημα και δημόσια πολιτική
END:VEVENT
BEGIN:VEVENT
DTSTART:20190610T123000
DURATION:PT03H00M00S
SUMMARY:[COURSE] 3ο Μάθημα (Εισήγηση)
DESCRIPTION:Τίτλος Διδακτικής Ενότητας: Δημόσια διοίκηση και διακυβέρνηση
Περιεχόμενο :
Βασικές αρχές διοίκησης στον δημόσιο τομέα
Βασικές αρχές καλής διοίκησης και εμπιστοσύνη των πολιτών 
Μορφές ελέγχου της δράσης της δημόσιας διοίκησης           
END:VEVENT
BEGIN:VEVENT
DTSTART:20190614T123000
DURATION:PT03H00M00S
SUMMARY:[COURSE] 4ο Μάθημα (Εισήγηση)
DESCRIPTION:Τίτλος Διδακτικής Ενότητας : Στρατηγική διοίκηση και στρατηγικός σχεδιασμός
Περιεχόμενο :
Η έννοια του στρατηγικού σχεδιασμού
Στρατηγική και μοντέλα Διοίκησης δημοσίων οργανισμών
Μοντέλα σχεδιασμού στρατηγικής διοίκησης
Πρότυπα και σύγχρονα εργαλεία διοίκησης 
Διοίκηση μέσω στόχων
END:VEVENT
BEGIN:VEVENT
DTSTART:20190621T123000
DURATION:PT03H00M00S
SUMMARY:[COURSE] 5ο Μάθημα (Εισήγηση)
DESCRIPTION:Τίτλος Διδακτικής Ενότητας : Δημόσια Διοίκηση και Συστήματα Ποιότητας
Περιεχόμενο :
Η έννοια της Ποιότητας. Το Δημόσιο management και η Διοίκηση Ολικής Ποιότητας
Συστήματα αξιολόγησης της απόδοσης και παροχή κίνητρων υπαλλήλων της δημόσιας διοίκησης 
END:VEVENT
BEGIN:VEVENT
DTSTART:20190624T123000
DURATION:PT03H00M00S
SUMMARY:[COURSE] 6ο Μάθημα (Εισήγηση)
DESCRIPTION:Τίτλος Διδακτικής Ενότητας : Διοίκηση και ηγεσία
Περιεχόμενο :
Συνοπτική παρουσίαση των θεωριών για την ηγεσία
Κλασσικές προσεγγίσεις στη μελέτη της ηγετικής συμπεριφοράς(προσέγγιση των Χαρακτηριστικών, Συμπεριφορική Σχολή, θεωρία Χ και Υ McGregor, Blake and Mouton's Διευθυντικό πλέγμα)
Θεωρίες ενδεχόμενων Καταστάσεων(ενδεχομενική προσέγγιση, Μοντέλο έκτακτης ανάγκης Fiedler, Μοντέλο Ηγεσίας Hersey – Blanchard- θεωρία του κύκλου ζωής, Μοντέλο Ηγεσίας Adair)
Σχέσεις ηγέτη- οπαδών(θεωρία υπηρετούσας ηγεσίας, Ομαδική ηγεσία, συναλλακτική και μετασχηματιστική Ηγεσία)
Τύποι ηγεσίας
Ηγεσία και management
Αποτελεσματική ηγεσία: η ισορροπία ανάμεσα στην ουσία και τον τύπο, η πορεία προς μια ολοκληρωμένη ηγεσία με αίσθημα ευθύνης
Ηγετικός χαρακτήρας: Η ουσία της Ηγεσίας 
END:VEVENT
BEGIN:VEVENT
DTSTART:20190626T123000
DURATION:PT03H00M00S
SUMMARY:[COURSE] 7ο Μάθημα (Εισήγηση)
DESCRIPTION:Τίτλος Διδακτικής Ενότητας : Οργανωσιακή κουλτούρα
Περιεχόμενο : 
Εννοιολογική προσέγγιση της κουλτούρας
Μοντέλα oργανωσιακής  κουλτούρας
END:VEVENT
BEGIN:VEVENT
DTSTART:20190628T123000
DURATION:PT05H00M00S
SUMMARY:[COURSE] 8ο Μάθημα (Εισήγηση και παρουσίαση Ατομικών Εργασιών)
DESCRIPTION:Τίτλος διδακτικής ενότητας:  Η οργανωσιακή αλλαγή και η διαχείρισή της
Περιεχόμενο: 
Το μοντέλο του Kurt Lewin
H πρόταση ενσωμάτωσης αλλαγών κατά τον Κοtter
To μοντέλο συμμόρφωσης των Nadler and Tushman’s
Το μοντέλο : «McKinsey seven ‘S’ model»  
END:VEVENT
BEGIN:VEVENT
DTSTART:20190630T235500
DURATION:PT00H00M00S
SUMMARY:[DEADLINE] Εργασία 
DESCRIPTION:(deadline: 2019-06-30 23:55:00)
BEGIN:VALARM
TRIGGER:-PT24H
DURATION:PT10H
ACTION:DISPLAY
DESCRIPTION:DEADLINE REMINDER for Εργασία
END:VALARM
END:VEVENT
END:VCALENDAR
