BEGIN:VCALENDAR
VERSION:2.0
BEGIN:VEVENT
DTSTART:20260422T085832
DURATION:PT00H00M00S
SUMMARY:[DEADLINE] Τελικές εργασίας 2018-τελική μορφή προς δημοσίευση 
DESCRIPTION:
BEGIN:VALARM
TRIGGER:-PT24H
DURATION:PT10H
ACTION:DISPLAY
DESCRIPTION:DEADLINE REMINDER for Τελικές εργασίας 2018-τελική μορφή προς δημοσίευση
END:VALARM
END:VEVENT
BEGIN:VEVENT
DTSTART:20260422T085832
DURATION:PT00H00M00S
SUMMARY:[DEADLINE] Συμπληρωματικές εμπρόθεσμες τελικές εργασίες ΚΕ (Οριστική Υποβολή)
DESCRIPTION:
BEGIN:VALARM
TRIGGER:-PT24H
DURATION:PT10H
ACTION:DISPLAY
DESCRIPTION:DEADLINE REMINDER for Συμπληρωματικές εμπρόθεσμες τελικές εργασίες ΚΕ (Οριστική Υποβολή)
END:VALARM
END:VEVENT
BEGIN:VEVENT
DTSTART:20181213T000000
DURATION:PT00H00M00S
SUMMARY:[DEADLINE] Τελικές εργασίες 2018
DESCRIPTION:Ανάρτηση τελικής εργασίας
(deadline: 2018-12-13 00:00:00)
BEGIN:VALARM
TRIGGER:-PT24H
DURATION:PT10H
ACTION:DISPLAY
DESCRIPTION:DEADLINE REMINDER for Τελικές εργασίες 2018
END:VALARM
END:VEVENT
END:VCALENDAR
