BEGIN:VCALENDAR
VERSION:2.0
BEGIN:VEVENT
DTSTART:20251217T201500
DURATION:PT00H00M00S
SUMMARY:[DEADLINE] ΘΕΜΑΣ 1ΗΣ ΕΡΓΑΣΙΑΣ _ ΣΚΟΠΟΣ ΚΑΙ ΑΝΤΙΚΕΙΜΕΝΟ
DESCRIPTION:Παρατίθενται τρεις (3) περιπτώσεις διατάξεων σκοπού και αντικειμένου.
Παρακαλείσθε με βάση το εκπαιδευτικό υλικό να αναλύσετε τα θετικά και τα αρνητικά των διατυπώσεων αυτών των διατάξεων.
 
Άρθρο 1
Σκοπός
 
Σκοπός του παρόντος Μέρους είναι η δημιουργία ενός αποτελεσματικού και σύγχρονου πλαισίου κανόνων σχετικά με την οδική ασφάλεια την αξιοποίηση και χρήση των νέων τεχνολογιών και της τεχνητής νοημοσύνης για την ασφαλή καταγραφή των στοιχείων των οχημάτων και των οδηγών τους κατά την τέλεση παραβάσεων σε χώρους δημόσιας κυκλοφορίας, καθώς και η απλούστευση των διαδικασιών της καταγραφής και βεβαίωσης των παραβάσεων που πραγματοποιούνται στο οδικό δίκτυο, αλλά και της σχετικής διαδικασίας είσπραξης των, βεβαιωμένων από τα αρμόδια όργανα για την έκδοσή τους προστίμων, με απώτερο σκοπό την αποτροπή τέτοιων παραβάσεων και την τήρηση των κανόνων οδικής κυκλοφορίας.
 
Άρθρο 2
Αντικείμενο
 
Αντικείμενο του παρόντος Μέρους είναι η θέσπιση διατάξεων που καθιστούν δυνατή την αποτελεσματική εφαρμογή των διατάξεων του Κώδικα Οδικής Κυκλοφορίας (ν.5209/25, Α΄ 100) μέσω:
α) της δημιουργίας ενός ενιαίου ηλεκτρονικού συστήματος ψηφιακής καταγραφής και διαχείρισης παραβάσεων Κ.Ο.Κ. και προστίμων, το οποίο θα αποτελεί το κεντρικό σύστημα καταγραφής και διαχείρισης των ελέγχων που διενεργούνται και των προστίμων που επιβάλλονται ανά την επικράτεια,
β) της δημιουργίας δικτύου καμερών καταγραφής παραβάσεων Κ.Ο.Κ με χρήση Τεχνητής Νοημοσύνης (ΤΝ),
γ) της σύστασης Οδικής Υπηρεσίας Συστημάτων Εποπτείας και Ασφάλειας (ΟΔ.Υ.Σ.Ε.ΑΣ), αρμόδιας για την οικονομική διαχείριση των προστίμων από τις παραβάσεις του Κ.Ο.Κ. και για το δίκτυο καμερών καταγραφής παραβάσεων Κ.Ο.Κ.,
δ) της σύστασης Εθνικού Παρατηρητηρίου Οδικής Ασφάλειας στη διοικητική δομή της Οδικής Υπηρεσίας Συστημάτων Εποπτείας και Ασφάλειας και
ε) της απλούστευσης διαδικασιών για τον πολίτη, όπως η ψηφιακή επίδοση της Πράξης Βεβαίωσης Παράβασης (εφεξής Π.Β.Π.) μέσω της θυρίδας του πολίτη στην Ενιαία Ψηφιακή Πύλη Δημόσιας Διοίκησης «gov.gr», η δυνατότητα ηλεκτρονικής υποβολής ένστασης και τηλεδιάσκεψης με τις αρμόδιες υπηρεσίες.
 
 
Άρθρο 1
Σκοπός
 
Σκοπός του παρόντος νόμου είναι ο προγραμματισμός, ο συντονισμός και η προώθηση των ενεργειών που αφορούν στην ανάληψη της Προεδρίας της Ευρωπαϊκής Ένωσης από την Ελλάδα το 2027 και την εκπλήρωση από την Ελλάδα των υποχρεώσεων που απορρέουν από την ανάληψη αυτής.
 
Άρθρο 2
Αντικείμενο
Αντικείμενο του παρόντος νόμου είναι:
α) η σύσταση αυτοτελούς γραφείου Ελληνικής Προεδρίας στην Κεντρική Υπηρεσία του Υπουργείου Εξωτερικών και ο καθορισμός της λειτουργίας και της οργάνωσής του και
β) η ρύθμιση θεμάτων για την ενημέρωση και την επικοινωνία στο πλαίσιο της Ελληνικής Προεδρίας.
 
 
Άρθρο 1
Σκοπός
Σκοπός του Μέρους Α΄ είναι η ενίσχυση του δημόσιου χαρακτήρα της ανώνυμης εταιρείας με την επωνυμία «Ελληνική Ραδιοφωνία Τηλεόραση Ανώνυμη Εταιρεία (Ε.Ρ.Τ. Α.Ε.)» και της θέσης της στο πλαίσιο μίας έντονα ανταγωνιστικής αγοράς και η ενίσχυση της εύρυθμης, διαφανούς και αποτελεσματικής λειτουργίας της δημόσιας ραδιοφωνίας και τηλεόρασης.
 
Άρθρο 2
Αντικείμενο
Αντικείμενο του Μέρους Α΄ είναι:
α) η πρόβλεψη δυνατότητας συγκρότησης ομάδας εργασίας για την καινοτομία και τις σύγχρονες τεχνολογίες στην Ε.Ρ.Τ. Α.Ε., της συνεργασίας της ομάδας με δημόσιους και ιδιωτικούς φορείς με συναφείς σκοπούς και με Ανώτατα Εκπαιδευτικά Ιδρύματα (Α.Ε.Ι.) και της συμμετοχής της σε διεθνείς και ευρωπαϊκούς οργανισμούς,
β) η πρόβλεψη οργανωτικών αλλαγών στη διοίκηση της Ε.Ρ.Τ. Α.Ε., όπως η αύξηση του αριθμού των μελών του Διοικητικού της Συμβουλίου και η συμμετοχή σε αυτό ενός (1) μέλους Διδακτικού Ερευνητικού Προσωπικού Α.Ε.Ι. και ενός (1) μέλους με επαρκή εμπειρία στην ελεγκτική ή λογιστική ή σε άλλον τομέα των οικονομικών επιστημών,
γ) η συμπλήρωση της διαδικασίας είσπραξης του ανταποδοτικού τέλους και η ανάθεση της ταμειακής βεβαίωσης και της αναγκαστικής είσπραξης των απαιτήσεων που δεν εισπράττονται κατ’ έτος από τους προμηθευτές ηλεκτρικής ενέργειας στην Ανεξάρτητη Αρχή Δημοσίων Εσόδων,
δ) η ενσωμάτωση της εταιρικής κοινωνικής ευθύνης στο θεσμικό πλαίσιο της Ε.Ρ.Τ. Α.Ε.,
ε) η καθιέρωση της συνεργασίας της Ε.Ρ.Τ. Α.Ε. με το Υπουργείο Παιδείας, Θρησκευμάτων και Αθλητισμού για την εκπαιδευτική τηλεόραση και την αξιοποίηση του ραδιοτηλεοπτικού περιεχομένου,
στ) η παροχή κινήτρου απόδοσης στο προσωπικό της Ε.Ρ.Τ. Α.Ε.,
ζ) η ρύθμιση ζητημάτων που αφορούν στο προσωπικό της Ε.Ρ.Τ. Α.Ε., μεταξύ των οποίων η παροχή κινήτρου απόδοσης και η εξάλειψη των μισθολογικών ανισοτήτων του προσωπικού των μουσικών συνόλων της Ε.Ρ.Τ. Α.Ε. σε σχέση με τους μουσικούς της Κρατικής Ορχήστρας Αθηνών, της Κρατικής Ορχήστρας Θεσσαλονίκης και της Ορχήστρας της Λυρικής Σκηνής, 
η) η πρακτική άσκηση και μαθητεία στην Ε.Ρ.Τ. Α.Ε. από καταρτιζόμενους δομών επαγγελματικής εκπαίδευσης και κατάρτισης και φοιτητές τριτοβάθμιας εκπαίδευσης,
θ) η εναρμόνιση:
θα) με τον ν. 4972/2022 (Α΄ 181), περί εταιρικής διακυβέρνησης των ανώνυμων εταιρειών του Δημοσίου και ειδικότερα ως προς:
i) την κατάρτιση του στρατηγικού και επιχειρησιακού σχεδίου,
ii) τη λειτουργία της Γενικής Συνέλευσης,
iii) την αύξηση του αριθμού των μελών του Διοικητικού Συμβουλίου, καθώς και τη λειτουργία του,
iv) τη σύνταξη και το περιεχόμενο του Κανονισμού Λειτουργίας, και
v) την επιλογή των Γενικών Διευθυντών,
θβ) με τον ν. 5062/2023 (A΄ 183), περί συστήματος επιλογής διοικήσεων φορέων του δημόσιου τομέα, και ειδικότερα ως προς την επιλογή και τον διορισμό του Προέδρου του Διοικητικού Συμβουλίου και του Διευθύνοντος Συμβούλου,
ι) η θέσπιση πλαισίου για τις διεθνείς σχέσεις και συνεργασίες της Ε.Ρ.Τ. Α.Ε. και την εξωστρέφειά της, και
ια) ο έλεγχος της ανταπόκρισης του κοινού στην επιτέλεση της δημόσιας υπηρεσίας η οποία έχει ανατεθεί στην Ε.Ρ.Τ. Α.Ε., με τη χρήση σύγχρονων τεχνικών μεθόδων και μέσων.
(deadline: 2025-12-17 20:15:00)
BEGIN:VALARM
TRIGGER:-PT24H
DURATION:PT10H
ACTION:DISPLAY
DESCRIPTION:DEADLINE REMINDER for ΘΕΜΑΣ 1ΗΣ ΕΡΓΑΣΙΑΣ _ ΣΚΟΠΟΣ ΚΑΙ ΑΝΤΙΚΕΙΜΕΝΟ
END:VALARM
END:VEVENT
BEGIN:VEVENT
DTSTART:20251218T145500
DURATION:PT00H00M00S
SUMMARY:[DEADLINE] ΘΕΜΑ 2ΗΣ ΕΡΓΑΣΙΑΣ_ ΝΟΜΟΤΕΧΝΙΚΗ ΕΠΕΞΕΡΓΑΣΙΑ ΔΙΑΤΑΞΕΩΝ
DESCRIPTION:Εθνική Σχολή Δημόσιας Διοίκησης &amp; Αυτοδιοίκησης
Λ’ Εκπαιδευτική Σειρά
 
Θέμα εργασία ασύγχρονης εκπαίδευσης:
Παρακαλείσθε με βάση το εκπαιδευτικό υλικό να επεξεργαστείτε νομοτεχνικά τις εξής διατάξεις. Με δεδομένο ότι όλες οι διατάξεις είναι του ίδιου επισπεύδοντος υπουργείου (Υπουργείο Ψηφιακής Διακυβέρνησης) πιστεύετε ότι θα μπορούσατε να αποτελέσουν όλες αυτές οι διατάξεις ένα άρθρο και γιατί?:  
 
«ΠΡΟΣΘΕΤΗ ΔΙΑΤΑΞΗ ΥΨΗΔ
ΣΤΟ ΣΧ/Ν ΜΕ ΤΙΤΛΟ: «Ίδρυση Ελληνικού Εργοστασίου Τεχνητής Νοημοσύνης - Συνεποπτεία της Η.Δ.Υ.Κ.Α. Μ.Α.Ε. από τα Υπουργεία Ψηφιακής Διακυβέρνησης και Υγείας»
Άρθρο ....
Παρατάσεις προθεσμιών μετάδοσης προγραμμάτων επίγειας ψηφιακής τηλεοπτικής ευρυεκπομπής ελεύθερης λήψης και αδειοδότησης ραδιοφωνικών σταθμών
 
«1. Οι προθεσμίες του δεύτερου, του τρίτου και του έβδομου εδαφίου της παρ. 4 του άρθρου 2 του ν. 4339/2015 (Α΄ 133), περί του πλαισίου της διαδικασίας αδειοδότησης των παρόχων περιεχομένου επίγειας ψηφιακής τηλεοπτικής ευρυεκπομπής ελεύθερης λήψης, παρατείνονται για ένα (1) έτος.
 
Η προθεσμία του δευτέρου εδαφίου της παρ. 1 του άρθρου 40 του ν. 4779/2021 (Α΄ 27), περί υποχρεώσεων για τη μεταβίβαση και ασυμβιβάστων ραδιοφωνικών επιχειρήσεων, παρατείνεται έως την 31η Δεκεμβρίου 2026.»
                                                   
Άρθρο …
Παράταση προθεσμιών της παραγράφου 7 του άρθρου 39 και 35 του ν.4635/2019     (Α’ 167), όπως τροποποιήθηκαν  με το  άρθρο 109 του ν. 4915/2022 (Α’ 63)  για την αδειοδότηση κατασκευών κεραιών επίγειας ψηφιακής τηλεοπτικής ευρυεκπομπής.
Η προθεσμία του πρώτου εδαφίου της παραγράφου 1 του άρθρου 109 του ν. 4915/2022 (Α’63), περί υποβολής αίτησης χορήγησης άδειας κατασκευής κεραίας από τους αδειοδοτημένους παρόχους δικτύου επίγειας ψηφιακής τηλεοπτικής ευρυεκπομπής που λήγει στις 24 Δεκεμβρίου 2025, όπως ορίζεται στο άρθρο 30 του ν.5188/2025 (Α’49), παρατείνεται κατά είκοσι τέσσερις (24) μήνες, ήτοι έως την 31η Δεκεμβρίου 2027 και για τις κατασκευές κεραίας που αφορούν Σταθμούς Συμπληρωματικής Κάλυψης κατά τριάντα έξι (36) μήνες ήτοι την 31η Δεκεμβρίου 2028.
Η προθεσμία της περ. β) του δεύτερου εδαφίου της παραγράφου 2 του άρθρου 109 του ν. 4915/2022 (Α’63), για την προθεσμία συμπλήρωσης της μελέτης ραδιοπομπών του άρθρου 35 του ν. 4635/2019 (Α’ 167), που λήγει στις 24 Δεκεμβρίου 2025 όπως ορίζεται στο άρθρο 30 του ν.5188/2025 (Α’49), παρατείνεται κατά τριάντα έξι (36) μήνες, ήτοι έως την 31η Απριλίου 2028.       
 
   Άρθρο …
Παράταση των προθεσμιών του άρθρου 29  του ν.5142/2024 (Α’ 158) για την προστασία εκπομπών ραδιοφωνικών προγραμμάτων ΕΡΤ Α.Ε.-Προσθήκη άρθρου 16β στον ν.4173/2013 (Α’ 169).
Οι προθεσμίες των παραγράφων 1 ,  2  και 4 του άρθρου 29 του ν.5142/2024 (Α’ 158)            «Προστασία εκπομπών ραδιοφωνικών προγραμμάτων Ε.Ρ.Τ. Α.Ε. – Προσθήκη άρθρου 16Β στον ν. 4173/2013.», παρατείνονται έως την 31η-12-2027.
 
Καλή επιτυχία
 
Η Εισηγήτρια                                                    Ο Υπεύθυνος Σπουδών &amp; Έρευνας
 
Σταυρούλα Αντωνίου
         
(deadline: 2025-12-18 14:55:00)
BEGIN:VALARM
TRIGGER:-PT24H
DURATION:PT10H
ACTION:DISPLAY
DESCRIPTION:DEADLINE REMINDER for ΘΕΜΑ 2ΗΣ ΕΡΓΑΣΙΑΣ_ ΝΟΜΟΤΕΧΝΙΚΗ ΕΠΕΞΕΡΓΑΣΙΑ ΔΙΑΤΑΞΕΩΝ
END:VALARM
END:VEVENT
END:VCALENDAR
