BEGIN:VCALENDAR
VERSION:2.0
BEGIN:VEVENT
DTSTART:20251217T220000
DURATION:PT00H00M00S
SUMMARY:[DEADLINE] Εργασία στο Μάθημα της Νομοπαρασκευής για Μεταφορά στο Εθνικό Δίκαιο
DESCRIPTION:Επισυνάπτεται εργασία για το μάθημα της Νομοπαρασκευής για μεταφορά στο εθνικό δίκαιο.
(deadline: 2025-12-17 22:00:00)
BEGIN:VALARM
TRIGGER:-PT24H
DURATION:PT10H
ACTION:DISPLAY
DESCRIPTION:DEADLINE REMINDER for Εργασία στο Μάθημα της Νομοπαρασκευής για Μεταφορά στο Εθνικό Δίκαιο
END:VALARM
END:VEVENT
END:VCALENDAR
