BEGIN:VCALENDAR
VERSION:2.0
BEGIN:VEVENT
DTSTART:20251208T220000
DURATION:PT00H00M00S
SUMMARY:[DEADLINE] Εργασία Ασύγχρονης Εκπαίδευσης
DESCRIPTION:Παρακαλώ όπως απαντήσετε γραπτώς στην παρακάτω εργασία ασύγχρονης εκπαίδευσης. Βρίσκομαι στη διάθεσή σας για όποια διευκρίνιση.
(deadline: 2025-12-08 22:00:00)
BEGIN:VALARM
TRIGGER:-PT24H
DURATION:PT10H
ACTION:DISPLAY
DESCRIPTION:DEADLINE REMINDER for Εργασία Ασύγχρονης Εκπαίδευσης
END:VALARM
END:VEVENT
END:VCALENDAR
