BEGIN:VCALENDAR
VERSION:2.0
BEGIN:VEVENT
DTSTART:20251217T235500
DURATION:PT00H00M00S
SUMMARY:[DEADLINE] θέματα προς ανάπτυξη 
DESCRIPTION:Καλησπέρα σας,
Στο συνημμένο αρχείο σας παρουσιάζονται τα τρία θέματα προς ανάπτυξη στο πλαίσιο της  εργασίας.
Παρακαλείσθε να απάντησετε  και στα τρία θέματα αξιοπώντας τα στρατηγικά εργαλεία  μέσα από τις μελέτες περίπτωσης που συζητήθηκαν κατά τη διάρκεια των εισηγήσεων.
Ευχαριστώ, 
Δρ. Παπαφιλιππάκη Ειρήνη
(deadline: 2025-12-17 23:55:00)
BEGIN:VALARM
TRIGGER:-PT24H
DURATION:PT10H
ACTION:DISPLAY
DESCRIPTION:DEADLINE REMINDER for θέματα προς ανάπτυξη
END:VALARM
END:VEVENT
END:VCALENDAR
