BEGIN:VCALENDAR
VERSION:2.0
BEGIN:VEVENT
DTSTART:20220110T235900
DURATION:PT00H00M00S
SUMMARY:[DEADLINE] ΕΚΘΕΣΗ ΠΡΑΚΤΙΚΗΣ 
DESCRIPTION:(deadline: 2022-01-10 23:59:00)
BEGIN:VALARM
TRIGGER:-PT24H
DURATION:PT10H
ACTION:DISPLAY
DESCRIPTION:DEADLINE REMINDER for ΕΚΘΕΣΗ ΠΡΑΚΤΙΚΗΣ
END:VALARM
END:VEVENT
BEGIN:VEVENT
DTSTART:20220110T235900
DURATION:PT00H00M00S
SUMMARY:[DEADLINE] ΕΡΓΑΣΙΑ ΚΑΙΝΟΤΟΜΙΑΣ
DESCRIPTION:(deadline: 2022-01-10 23:59:00)
BEGIN:VALARM
TRIGGER:-PT24H
DURATION:PT10H
ACTION:DISPLAY
DESCRIPTION:DEADLINE REMINDER for ΕΡΓΑΣΙΑ ΚΑΙΝΟΤΟΜΙΑΣ
END:VALARM
END:VEVENT
END:VCALENDAR
