BEGIN:VCALENDAR
VERSION:2.0
BEGIN:VEVENT
DTSTART:20210713T171500
DURATION:PT00H00M00S
SUMMARY:[DEADLINE] ΕΞΕΤΑΣΗ ΣΤΗ ΓΑΛΛΙΚΗ ΓΛΩΣΣΑ, ΑΡΙΣΤΟ ΕΠΙΠΕΔΟ
DESCRIPTION:Αγαπητοί/ες σπουδαστές/τριες,
επισυναπτόμενη βρείτε την εξέτεση για τη γαλλική γλώσσα του τμήματος σας.
Θα απαντήσετε στο φυλλάδο που έχετε για όλες τις εξτάσεις σας.
Με την ολοκλήρωση της εξέτασης, να υπενθυμίσω την ανάρτηση στο e-class και την αποστολή με ηλεκτρονικό μήνυμα στο abourbouli@ekdd.gr.
Σας εύχομαι πολύ και καλή επιτυχία!
Δρ. Αγγελική Μπουρμπούλη
(deadline: 2021-07-13 17:15:00)
BEGIN:VALARM
TRIGGER:-PT24H
DURATION:PT10H
ACTION:DISPLAY
DESCRIPTION:DEADLINE REMINDER for ΕΞΕΤΑΣΗ ΣΤΗ ΓΑΛΛΙΚΗ ΓΛΩΣΣΑ, ΑΡΙΣΤΟ ΕΠΙΠΕΔΟ
END:VALARM
END:VEVENT
BEGIN:VEVENT
DTSTART:20210713T171500
DURATION:PT00H00M00S
SUMMARY:[DEADLINE] ΕΞΕΤΑΣΗ ΣΤΗ ΓΑΛΛΙΚΗ ΓΛΩΣΣΑ, ΜΕΣΟ ΕΠΙΠΕΔΟ
DESCRIPTION:Αγαπητοί/ες σπουδαστές/τριες,
επισυναπτόμενη βρείτε την εξέτεση για τη γαλλική γλώσσα του τμήματος σας.
Θα απαντήσετε στο φυλλάδο που έχετε για όλες τις εξτάσεις σας.
Με την ολοκλήρωση της εξέτασης, να υπενθυμίσω την ανάρτηση στο e-class και την αποστολή με ηλεκτρονικό μήνυμα στο abourbouli@ekdd.gr.
Σας εύχομαι πολύ και καλή επιτυχία!
Δρ. Αγγελική Μπουρμπούλη
(deadline: 2021-07-13 17:15:00)
BEGIN:VALARM
TRIGGER:-PT24H
DURATION:PT10H
ACTION:DISPLAY
DESCRIPTION:DEADLINE REMINDER for ΕΞΕΤΑΣΗ ΣΤΗ ΓΑΛΛΙΚΗ ΓΛΩΣΣΑ, ΜΕΣΟ ΕΠΙΠΕΔΟ
END:VALARM
END:VEVENT
BEGIN:VEVENT
DTSTART:20210713T171500
DURATION:PT00H00M00S
SUMMARY:[DEADLINE] ΕΞΕΤΑΣΗ ΣΤΗ ΓΑΛΛΙΚΗ ΓΛΩΣΣΑ, ΑΡΧΑΡΙΟ ΕΠΙΠΕΔΟ
DESCRIPTION:Αγαπητοί/ες σπουδαστές/τριες,
επισυναπτόμενη βρείτε την εξέτεση για τη γαλλική γλώσσα του τμήματος σας.
Θα απαντήσετε στο φυλλάδο που έχετε για όλες τις εξτάσεις σας.
Με την ολοκλήρωση της εξέτασης, να υπενθυμίσω την ανάρτηση στο e-class και την αποστολή με ηλεκτρονικό μήνυμα στο abourbouli@ekdd.gr.
Σας εύχομαι πολύ και καλή επιτυχία!
Δρ. Αγγελική Μπουρμπούλη
(deadline: 2021-07-13 17:15:00)
BEGIN:VALARM
TRIGGER:-PT24H
DURATION:PT10H
ACTION:DISPLAY
DESCRIPTION:DEADLINE REMINDER for ΕΞΕΤΑΣΗ ΣΤΗ ΓΑΛΛΙΚΗ ΓΛΩΣΣΑ, ΑΡΧΑΡΙΟ ΕΠΙΠΕΔΟ
END:VALARM
END:VEVENT
BEGIN:VEVENT
DTSTART:20210713T171500
DURATION:PT00H00M00S
SUMMARY:[DEADLINE] ΕΞΕΤΑΣΗ ΣΤΗ ΓΕΡΜΑΝΙΚΗ ΓΛΩΣΣΑ, ΑΡΙΣΤΟ ΕΠΙΠΕΔΟ
DESCRIPTION:Αγαπητοί/ες σπουδαστές/τριες,
επισυναπτόμενη βρείτε την εξέτεση για τη γερμανική γλώσσα του τμήματος σας.
Θα απαντήσετε στο φυλλάδο που έχετε για όλες τις εξτάσεις σας.
Με την ολοκλήρωση της εξέτασης, να υπενθυμίσω την ανάρτηση στο e-class και την αποστολή με ηλεκτρονικό μήνυμα στο abourbouli@ekdd.gr.
Σας εύχομαι πολύ και καλή επιτυχία!
Δρ. Αγγελική Μπουρμπούλη
(deadline: 2021-07-13 17:15:00)
BEGIN:VALARM
TRIGGER:-PT24H
DURATION:PT10H
ACTION:DISPLAY
DESCRIPTION:DEADLINE REMINDER for ΕΞΕΤΑΣΗ ΣΤΗ ΓΕΡΜΑΝΙΚΗ ΓΛΩΣΣΑ, ΑΡΙΣΤΟ ΕΠΙΠΕΔΟ
END:VALARM
END:VEVENT
BEGIN:VEVENT
DTSTART:20210713T171500
DURATION:PT00H00M00S
SUMMARY:[DEADLINE] ΕΞΕΤΑΣΗ ΣΤΗ ΓΕΡΜΑΝΙΚΗ ΓΛΩΣΣΑ, ΑΡΧΑΡΙΟ ΕΠΙΠΕΔΟ
DESCRIPTION:Αγαπητοί/ες σπουδαστές/τριες,
επισυναπτόμενη βρείτε την εξέτεση για τη γερμανική γλώσσα του τμήματος σας.
Θα απαντήσετε στο φυλλάδο που έχετε για όλες τις εξτάσεις σας.
Με την ολοκλήρωση της εξέτασης, να υπενθυμίσω την ανάρτηση στο e-class και την αποστολή με ηλεκτρονικό μήνυμα στο abourbouli@ekdd.gr.
Σας εύχομαι πολύ και καλή επιτυχία!
Δρ. Αγγελική Μπουρμπούλη
(deadline: 2021-07-13 17:15:00)
BEGIN:VALARM
TRIGGER:-PT24H
DURATION:PT10H
ACTION:DISPLAY
DESCRIPTION:DEADLINE REMINDER for ΕΞΕΤΑΣΗ ΣΤΗ ΓΕΡΜΑΝΙΚΗ ΓΛΩΣΣΑ, ΑΡΧΑΡΙΟ ΕΠΙΠΕΔΟ
END:VALARM
END:VEVENT
BEGIN:VEVENT
DTSTART:20210713T171500
DURATION:PT00H00M00S
SUMMARY:[DEADLINE] ΕΞΕΤΑΣΗ ΣΤΗΝ ΙΤΑΛΙΚΗ ΓΛΩΣΣΑ, ΑΡΙΣΤΟ ΕΠΙΠΕΔΟ
DESCRIPTION:Αγαπητοί/ες σπουδαστές/τριες,
επισυναπτόμενη βρείτε την εξέτεση για την ιταλική γλώσσα του τμήματος σας.
Θα απαντήσετε στο φυλλάδο που έχετε για όλες τις εξετάσεις σας.
Με την ολοκλήρωση της εξέτασης, να υπενθυμίσω την ανάρτηση στο e-class και την αποστολή με ηλεκτρονικό μήνυμα στο abourbouli@ekdd.gr.
Σας εύχομαι πολύ και καλή επιτυχία!
Δρ. Αγγελική Μπουρμπούλη
(deadline: 2021-07-13 17:15:00)
BEGIN:VALARM
TRIGGER:-PT24H
DURATION:PT10H
ACTION:DISPLAY
DESCRIPTION:DEADLINE REMINDER for ΕΞΕΤΑΣΗ ΣΤΗΝ ΙΤΑΛΙΚΗ ΓΛΩΣΣΑ, ΑΡΙΣΤΟ ΕΠΙΠΕΔΟ
END:VALARM
END:VEVENT
BEGIN:VEVENT
DTSTART:20210713T171500
DURATION:PT00H00M00S
SUMMARY:[DEADLINE] ΕΞΕΤΑΣΗ ΣΤΗΝ ΙΤΑΛΙΚΗ ΓΛΩΣΣΑ, ΑΡΧΑΡΙΟ ΕΠΙΠΕΔΟ
DESCRIPTION:Αγαπητοί/ες σπουδαστές/τριες,
επισυναπτόμενη βρείτε την εξέτεση για τη ιταλική γλώσσα του τμήματος σας.
Θα απαντήσετε στο φυλλάδο που έχετε για όλες τις εξετάσεις σας.
Με την ολοκλήρωση της εξέτασης, να υπενθυμίσω την ανάρτηση στο e-class και την αποστολή με ηλεκτρονικό μήνυμα στο abourbouli@ekdd.gr.
Σας εύχομαι πολύ και καλή επιτυχία!
Δρ. Αγγελική Μπουρμπούλη
(deadline: 2021-07-13 17:15:00)
BEGIN:VALARM
TRIGGER:-PT24H
DURATION:PT10H
ACTION:DISPLAY
DESCRIPTION:DEADLINE REMINDER for ΕΞΕΤΑΣΗ ΣΤΗΝ ΙΤΑΛΙΚΗ ΓΛΩΣΣΑ, ΑΡΧΑΡΙΟ ΕΠΙΠΕΔΟ
END:VALARM
END:VEVENT
BEGIN:VEVENT
DTSTART:20210713T171500
DURATION:PT00H00M00S
SUMMARY:[DEADLINE] ΕΞΕΤΑΣΗ ΣΤΗΝ ΙΣΠΑΝΙΚΗ ΓΛΩΣΣΑ, ΑΡΙΣΤΟ ΕΠΙΠΕΔΟ
DESCRIPTION:Αγαπητοί/ες σπουδαστές/τριες,
επισυναπτόμενη βρείτε την εξέτεση για την ισαπνική γλώσσα του τμήματος σας.
Θα απαντήσετε στο φυλλάδο που έχετε για όλες τις εξετάσεις σας.
Με την ολοκλήρωση της εξέτασης, να υπενθυμίσω την ανάρτηση στο e-class και την αποστολή με ηλεκτρονικό μήνυμα στο abourbouli@ekdd.gr.
Σας εύχομαι πολύ και καλή επιτυχία!
Δρ. Αγγελική Μπουρμπούλη
(deadline: 2021-07-13 17:15:00)
BEGIN:VALARM
TRIGGER:-PT24H
DURATION:PT10H
ACTION:DISPLAY
DESCRIPTION:DEADLINE REMINDER for ΕΞΕΤΑΣΗ ΣΤΗΝ ΙΣΠΑΝΙΚΗ ΓΛΩΣΣΑ, ΑΡΙΣΤΟ ΕΠΙΠΕΔΟ
END:VALARM
END:VEVENT
BEGIN:VEVENT
DTSTART:20210713T171500
DURATION:PT00H00M00S
SUMMARY:[DEADLINE] ΕΞΕΤΑΣΗ ΣΤΗΝ ΙΣΠΑΝΙΚΗ ΓΛΩΣΣΑ, ΑΡΧΑΡΙΟ ΕΠΙΠΕΔΟ
DESCRIPTION:Αγαπητοί/ες σπουδαστές/τριες,
επισυναπτόμενη βρείτε την εξέτεση για την ισπανική γλώσσα του τμήματος σας.
Θα απαντήσετε στο φυλλάδο που έχετε για όλες τις εξετάσεις σας.
Με την ολοκλήρωση της εξέτασης, να υπενθυμίσω την ανάρτηση στο e-class και την αποστολή με ηλεκτρονικό μήνυμα στο abourbouli@ekdd.gr.
Σας εύχομαι πολύ και καλή επιτυχία!
Δρ. Αγγελική Μπουρμπούλη
(deadline: 2021-07-13 17:15:00)
BEGIN:VALARM
TRIGGER:-PT24H
DURATION:PT10H
ACTION:DISPLAY
DESCRIPTION:DEADLINE REMINDER for ΕΞΕΤΑΣΗ ΣΤΗΝ ΙΣΠΑΝΙΚΗ ΓΛΩΣΣΑ, ΑΡΧΑΡΙΟ ΕΠΙΠΕΔΟ
END:VALARM
END:VEVENT
END:VCALENDAR
