BEGIN:VCALENDAR
VERSION:2.0
BEGIN:VEVENT
DTSTART:20210623T154500
DURATION:PT00H00M00S
SUMMARY:[DEADLINE] ΕΞΕΤΑΣΗ ΣΤΗΝ ΑΓΓΛΙΚΗ ΓΛΩΣΣΑ, ΔΙΟΙΚΗΣΗ ΥΠΗΡΕΣΙΩΝ ΥΓΕΙΑΣ
DESCRIPTION:Αγαπητοί/ες σπουδαστές/τριες,
επισυναπτόμενη βρείτε την εξέτεση για την αγγλική γλώσσα του τμήματος σας. Θα απαντήσετε στο φυλλάδο που έχετε για όλες τις εξτάσεις σας.
Με την ολοκλήρωση της εξέτασης, να υπενθυμίσω την ανάρτηση στο e-class και την αποστολή με ηλεκτρονικό μήνυμα στο abourbouli@ekdd.gr.
Σας εύχομαι πολύ και καλή επιτυχία!
Δρ. Αγγελική Μπουρμπούλη
(deadline: 2021-06-23 15:45:00)
BEGIN:VALARM
TRIGGER:-PT24H
DURATION:PT10H
ACTION:DISPLAY
DESCRIPTION:DEADLINE REMINDER for ΕΞΕΤΑΣΗ ΣΤΗΝ ΑΓΓΛΙΚΗ ΓΛΩΣΣΑ, ΔΙΟΙΚΗΣΗ ΥΠΗΡΕΣΙΩΝ ΥΓΕΙΑΣ
END:VALARM
END:VEVENT
BEGIN:VEVENT
DTSTART:20210623T154500
DURATION:PT00H00M00S
SUMMARY:[DEADLINE] ΕΞΕΤΑΣΗ ΣΤΗΝ ΑΓΓΛΙΚΗ ΓΛΩΣΣΑ, ΔΙΟΙΚΗΣΗ ΟΡΓΑΝΙΣΜΩΝ ΚΟΙΝΩΝΙΚΗΣ ΠΟΛΙΤΙΚΗΣ
DESCRIPTION:Αγαπητοί/ές σπουδαστές/τριες,
Επισυναπτόμενη βρείτε την εξέταση για την αγγλική γλώσσα του τμήματός σας. ΟΙ απαντήσεις θα γραφτούν στο απαντητικό φυλλάδιο που έχετε για όλες τις εξετάσεις της ΕΣΔΔΑ.
Με την ολοκλήρωση της εξέτασης να υπενθυμίσω την ανάρτηση στο e-class και την αποστολή με ηλεκτρονικό ταχυδρομείο στη διεύθυνση abourbouli@ekdd.gr.
Σας εύχομαι πολύ και καλή επιτυχία!
Δρ. Αγγελική Μπουρμπούλη
(deadline: 2021-06-23 15:45:00)
BEGIN:VALARM
TRIGGER:-PT24H
DURATION:PT10H
ACTION:DISPLAY
DESCRIPTION:DEADLINE REMINDER for ΕΞΕΤΑΣΗ ΣΤΗΝ ΑΓΓΛΙΚΗ ΓΛΩΣΣΑ, ΔΙΟΙΚΗΣΗ ΟΡΓΑΝΙΣΜΩΝ ΚΟΙΝΩΝΙΚΗΣ ΠΟΛΙΤΙΚΗΣ
END:VALARM
END:VEVENT
BEGIN:VEVENT
DTSTART:20210623T154500
DURATION:PT00H00M00S
SUMMARY:[DEADLINE] ΕΞΕΤΑΣΗ ΣΤΗΝ ΑΓΓΛΙΚΗ ΓΛΩΣΣΑ, ΠΟΛΙΤΙΣΤΙΚΗ ΔΙΟΙΚΗΣΗ
DESCRIPTION:Αγαπητοί/ές σπουδαστές/τριες,
Επισυναπτόμενη βρείτε την εξέταση για την αγγλική γλώσσα του τμήματός σας. ΟΙ απαντήσεις θα γραφτούν στο απαντητικό φυλλάδιο που έχετε για όλες τις εξετάσεις της ΕΣΔΔΑ.
Με την ολοκλήρωση της εξέτασης να υπενθυμίσω την ανάρτηση στο e-class και την αποστολή με ηλεκτρονικό ταχυδρομείο στη διεύθυνση abourbouli@ekdd.gr.
Σας εύχομαι πολύ και καλή επιτυχία!
Δρ. Αγγελική Μπουρμπούλη
(deadline: 2021-06-23 15:45:00)
BEGIN:VALARM
TRIGGER:-PT24H
DURATION:PT10H
ACTION:DISPLAY
DESCRIPTION:DEADLINE REMINDER for ΕΞΕΤΑΣΗ ΣΤΗΝ ΑΓΓΛΙΚΗ ΓΛΩΣΣΑ, ΠΟΛΙΤΙΣΤΙΚΗ ΔΙΟΙΚΗΣΗ
END:VALARM
END:VEVENT
BEGIN:VEVENT
DTSTART:20210623T154500
DURATION:PT00H00M00S
SUMMARY:[DEADLINE] ΕΞΕΤΑΣΗ ΣΤΗΝ ΑΓΓΛΙΚΗ ΓΛΩΣΣΑ, ΓΕΝΙΚΗ ΔΙΟΙΚΗΣΗ
DESCRIPTION:Αγαπητοί/ές σπουδαστές/τριες,
Επισυναπτόμενη βρείτε την εξέταση για την αγγλική γλώσσα του τμήματός σας. ΟΙ απαντήσεις θα γραφτούν στο απαντητικό φυλλάδιο που έχετε για όλες τις εξετάσεις της ΕΣΔΔΑ.
Με την ολοκλήρωση της εξέτασης να υπενθυμίσω την ανάρτηση στο e-class και την αποστολή με ηλεκτρονικό ταχυδρομείο στη διεύθυνση abourbouli@ekdd.gr.
Σας εύχομαι πολύ και καλή επιτυχία!
Δρ. Αγγελική Μπουρμπούλη
(deadline: 2021-06-23 15:45:00)
BEGIN:VALARM
TRIGGER:-PT24H
DURATION:PT10H
ACTION:DISPLAY
DESCRIPTION:DEADLINE REMINDER for ΕΞΕΤΑΣΗ ΣΤΗΝ ΑΓΓΛΙΚΗ ΓΛΩΣΣΑ, ΓΕΝΙΚΗ ΔΙΟΙΚΗΣΗ
END:VALARM
END:VEVENT
BEGIN:VEVENT
DTSTART:20210623T154800
DURATION:PT00H00M00S
SUMMARY:[DEADLINE] ΕΞΕΤΑΣΗ ΣΤΗΝ ΑΓΓΛΙΚΗ ΓΛΩΣΣΑ, ΨΗΦΙΑΚΗ ΠΟΛΙΤΙΚΗ
DESCRIPTION:Αγαπητοί/ές σπουδαστές/τριες,
Επισυναπτόμενη βρείτε την εξέταση για την αγγλική γλώσσα του τμήματός σας. ΟΙ απαντήσεις θα γραφτούν στο απαντητικό φυλλάδιο που έχετε για όλες τις εξετάσεις της ΕΣΔΔΑ.
Με την ολοκλήρωση της εξέτασης να υπενθυμίσω την ανάρτηση στο e-class και την αποστολή με ηλεκτρονικό ταχυδρομείο στη διεύθυνση abourbouli@ekdd.gr.
Σας εύχομαι πολύ και καλή επιτυχία!
Δρ. Αγγελική Μπουρμπούλη
(deadline: 2021-06-23 15:48:00)
BEGIN:VALARM
TRIGGER:-PT24H
DURATION:PT10H
ACTION:DISPLAY
DESCRIPTION:DEADLINE REMINDER for ΕΞΕΤΑΣΗ ΣΤΗΝ ΑΓΓΛΙΚΗ ΓΛΩΣΣΑ, ΨΗΦΙΑΚΗ ΠΟΛΙΤΙΚΗ
END:VALARM
END:VEVENT
BEGIN:VEVENT
DTSTART:20210623T155500
DURATION:PT00H00M00S
SUMMARY:[DEADLINE] ΕΞΕΤΑΣΗ ΣΤΗΝ ΑΓΓΛΙΚΗ ΓΛΩΣΣΑ, ΑΝΑΠΤΥΞΙΑΚΩΝ ΠΕΡΙΦΕΡΕΙΑΚΩΝ ΠΟΛΙΤΙΚΩΝ
DESCRIPTION:Αγαπητοί/ές σπουδαστές/τριες,
Επισυναπτόμενη βρείτε την εξέταση για την αγγλική γλώσσα του τμήματός σας. ΟΙ απαντήσεις θα γραφτούν στο απαντητικό φυλλάδιο που έχετε για όλες τις εξετάσεις της ΕΣΔΔΑ.
Με την ολοκλήρωση της εξέτασης να υπενθυμίσω την ανάρτηση στο e-class και την αποστολή με ηλεκτρονικό ταχυδρομείο στη διεύθυνση abourbouli@ekdd.gr.
Σας εύχομαι πολύ και καλή επιτυχία!
Δρ. Αγγελική Μπουρμπούλη
(deadline: 2021-06-23 15:55:00)
BEGIN:VALARM
TRIGGER:-PT24H
DURATION:PT10H
ACTION:DISPLAY
DESCRIPTION:DEADLINE REMINDER for ΕΞΕΤΑΣΗ ΣΤΗΝ ΑΓΓΛΙΚΗ ΓΛΩΣΣΑ, ΑΝΑΠΤΥΞΙΑΚΩΝ ΠΕΡΙΦΕΡΕΙΑΚΩΝ ΠΟΛΙΤΙΚΩΝ
END:VALARM
END:VEVENT
BEGIN:VEVENT
DTSTART:20210708T114500
DURATION:PT00H00M00S
SUMMARY:[DEADLINE] ΕΞΕΤΑΣΗ ΣΤΗΝ ΑΓΓΛΙΚΗ ΓΛΩΣΣΑ, ΕΜΠΟΡΙΚΩΝ & ΟΙΚΟΝΟΜΙΚΩΝ ΑΚΟΛΟΥΘΩΝ
DESCRIPTION: 


Αγαπητοί/ες σπουδαστές/τριες,
επισυναπτόμενη βρείτε την εξέτεση για την αγγλική γλώσσα του τμήματος σας. Θα απαντήσετε στο φυλλάδο που έχετε για όλες τις εξτάσεις σας.
Με την ολοκλήρωση της εξέτασης, να υπενθυμίσω την ανάρτηση στο e-class και την αποστολή με ηλεκτρονικό μήνυμα στο abourbouli@ekdd.gr.
Σας εύχομαι πολύ και καλή επιτυχία!
Δρ. Αγγελική Μπουρμπούλη


(deadline: 2021-07-08 11:45:00)
BEGIN:VALARM
TRIGGER:-PT24H
DURATION:PT10H
ACTION:DISPLAY
DESCRIPTION:DEADLINE REMINDER for ΕΞΕΤΑΣΗ ΣΤΗΝ ΑΓΓΛΙΚΗ ΓΛΩΣΣΑ, ΕΜΠΟΡΙΚΩΝ & ΟΙΚΟΝΟΜΙΚΩΝ ΑΚΟΛΟΥΘΩΝ
END:VALARM
END:VEVENT
BEGIN:VEVENT
DTSTART:20210708T151500
DURATION:PT00H00M00S
SUMMARY:[DEADLINE] ΕΞΕΤΑΣΗ ΣΤΗΝ ΑΓΓΛΙΚΗ ΓΛΩΣΣΑ, ΔΙΕΘΝΩΝ & ΕΥΡΩΠΑΪΚΩΝ ΥΠΟΘΕΣΕΩΝ
DESCRIPTION:Αγαπητοί/ες σπουδαστές/τριες,
επισυναπτόμενη βρείτε την εξέτεση για την αγγλική γλώσσα του τμήματος σας. Θα απαντήσετε στο φυλλάδο που έχετε για όλες τις εξτάσεις σας.
Με την ολοκλήρωση της εξέτασης, να υπενθυμίσω την ανάρτηση στο e-class και την αποστολή με ηλεκτρονικό μήνυμα στο abourbouli@ekdd.gr.
Σας εύχομαι πολύ και καλή επιτυχία!
Δρ. Αγγελική Μπουρμπούλη
(deadline: 2021-07-08 15:15:00)
BEGIN:VALARM
TRIGGER:-PT24H
DURATION:PT10H
ACTION:DISPLAY
DESCRIPTION:DEADLINE REMINDER for ΕΞΕΤΑΣΗ ΣΤΗΝ ΑΓΓΛΙΚΗ ΓΛΩΣΣΑ, ΔΙΕΘΝΩΝ & ΕΥΡΩΠΑΪΚΩΝ ΥΠΟΘΕΣΕΩΝ
END:VALARM
END:VEVENT
END:VCALENDAR
