BEGIN:VCALENDAR
VERSION:2.0
BEGIN:VEVENT
DTSTART:20260422T151239
DURATION:PT00H00M00S
SUMMARY:[DEADLINE] Δείκτες εκροών ΜΕΡΟΣ Α
DESCRIPTION:
BEGIN:VALARM
TRIGGER:-PT24H
DURATION:PT10H
ACTION:DISPLAY
DESCRIPTION:DEADLINE REMINDER for Δείκτες εκροών ΜΕΡΟΣ Α
END:VALARM
END:VEVENT
BEGIN:VEVENT
DTSTART:20260422T151239
DURATION:PT00H00M00S
SUMMARY:[DEADLINE] Άσκηση ΜΕΡΟΣ Α
DESCRIPTION:
BEGIN:VALARM
TRIGGER:-PT24H
DURATION:PT10H
ACTION:DISPLAY
DESCRIPTION:DEADLINE REMINDER for Άσκηση ΜΕΡΟΣ Α
END:VALARM
END:VEVENT
BEGIN:VEVENT
DTSTART:20260422T151239
DURATION:PT00H00M00S
SUMMARY:[DEADLINE] Γραμμικά Μοντέλα Υλοποίησης Έργων Μέρος Α'
DESCRIPTION:
BEGIN:VALARM
TRIGGER:-PT24H
DURATION:PT10H
ACTION:DISPLAY
DESCRIPTION:DEADLINE REMINDER for Γραμμικά Μοντέλα Υλοποίησης Έργων Μέρος Α'
END:VALARM
END:VEVENT
BEGIN:VEVENT
DTSTART:20260422T151239
DURATION:PT00H00M00S
SUMMARY:[DEADLINE] ΜΟΝΤΕΛΟ ΥΛΟΠΟΙΗΣΗΣ ΕΡΓΟΥ ΜΕΡΟΣ Α
DESCRIPTION:
BEGIN:VALARM
TRIGGER:-PT24H
DURATION:PT10H
ACTION:DISPLAY
DESCRIPTION:DEADLINE REMINDER for ΜΟΝΤΕΛΟ ΥΛΟΠΟΙΗΣΗΣ ΕΡΓΟΥ ΜΕΡΟΣ Α
END:VALARM
END:VEVENT
BEGIN:VEVENT
DTSTART:20260422T151239
DURATION:PT00H00M00S
SUMMARY:[DEADLINE] Ερωτήσεις που αφορούν το Μέρος Β΄
DESCRIPTION:
BEGIN:VALARM
TRIGGER:-PT24H
DURATION:PT10H
ACTION:DISPLAY
DESCRIPTION:DEADLINE REMINDER for Ερωτήσεις που αφορούν το Μέρος Β΄
END:VALARM
END:VEVENT
BEGIN:VEVENT
DTSTART:20260422T151239
DURATION:PT00H00M00S
SUMMARY:[DEADLINE] Ερωτήσεις που αφορούν το Μέρος Γ  III.1 και ΙΙΙ.2
DESCRIPTION:
BEGIN:VALARM
TRIGGER:-PT24H
DURATION:PT10H
ACTION:DISPLAY
DESCRIPTION:DEADLINE REMINDER for Ερωτήσεις που αφορούν το Μέρος Γ III.1 και ΙΙΙ.2
END:VALARM
END:VEVENT
BEGIN:VEVENT
DTSTART:20260422T151239
DURATION:PT00H00M00S
SUMMARY:[DEADLINE] Ερωτήσεις που αφορούν το Μέρος Γ΄ ΙΙΙ.3
DESCRIPTION:
BEGIN:VALARM
TRIGGER:-PT24H
DURATION:PT10H
ACTION:DISPLAY
DESCRIPTION:DEADLINE REMINDER for Ερωτήσεις που αφορούν το Μέρος Γ΄ ΙΙΙ.3
END:VALARM
END:VEVENT
BEGIN:VEVENT
DTSTART:20260422T151239
DURATION:PT00H00M00S
SUMMARY:[DEADLINE] Ερωτήσεις που αφορούν το Μέρος Γ΄ ΙΙΙ.3
DESCRIPTION:
BEGIN:VALARM
TRIGGER:-PT24H
DURATION:PT10H
ACTION:DISPLAY
DESCRIPTION:DEADLINE REMINDER for Ερωτήσεις που αφορούν το Μέρος Γ΄ ΙΙΙ.3
END:VALARM
END:VEVENT
BEGIN:VEVENT
DTSTART:20260422T151239
DURATION:PT00H00M00S
SUMMARY:[DEADLINE] Ερωτήσεις που αφορούν το Μέρος Γ  III.1 και ΙΙΙ.2
DESCRIPTION:
BEGIN:VALARM
TRIGGER:-PT24H
DURATION:PT10H
ACTION:DISPLAY
DESCRIPTION:DEADLINE REMINDER for Ερωτήσεις που αφορούν το Μέρος Γ III.1 και ΙΙΙ.2
END:VALARM
END:VEVENT
BEGIN:VEVENT
DTSTART:20210726T153500
DURATION:PT00H00M00S
SUMMARY:[DEADLINE] ΕΞΕΤΑΣΕΙΣ ΘΕΣΜΙΚΟ ΠΛΑΙΣΙΟ ΥΛΟΠΟΙΗΣΗΣ ΕΡΓΩΝ 
DESCRIPTION:(deadline: 2021-07-26 15:35:00)
BEGIN:VALARM
TRIGGER:-PT24H
DURATION:PT10H
ACTION:DISPLAY
DESCRIPTION:DEADLINE REMINDER for ΕΞΕΤΑΣΕΙΣ ΘΕΣΜΙΚΟ ΠΛΑΙΣΙΟ ΥΛΟΠΟΙΗΣΗΣ ΕΡΓΩΝ
END:VALARM
END:VEVENT
END:VCALENDAR
