BEGIN:VCALENDAR
VERSION:2.0
BEGIN:VEVENT
DTSTART:20210728T235900
DURATION:PT00H00M00S
SUMMARY:[DEADLINE] ΤΕΛΙΚΗ ΕΡΓΑΣΙΑ ΜΑΘΗΜΑΤΟΣ
DESCRIPTION:Στο συνημμένο αρχείο θα βρείτε την εκφώνηση της τελικής εργασίας του μαθήματος
(deadline: 2021-07-28 23:59:00)
BEGIN:VALARM
TRIGGER:-PT24H
DURATION:PT10H
ACTION:DISPLAY
DESCRIPTION:DEADLINE REMINDER for ΤΕΛΙΚΗ ΕΡΓΑΣΙΑ ΜΑΘΗΜΑΤΟΣ
END:VALARM
END:VEVENT
END:VCALENDAR
