BEGIN:VCALENDAR
VERSION:2.0
BEGIN:VEVENT
DTSTART:20210601T110000
DURATION:PT04H00M00S
SUMMARY:[COURSE] ΠΣΒΔ1 Εισαγωγή στα ΠΣ - Εισαγωγή στις ΒΔ
DESCRIPTION:
END:VEVENT
BEGIN:VEVENT
DTSTART:20210608T110000
DURATION:PT04H00M00S
SUMMARY:[COURSE] ΠΣΒΔ2
DESCRIPTION:
END:VEVENT
BEGIN:VEVENT
DTSTART:20210615T115500
DURATION:PT04H00M00S
SUMMARY:[COURSE] ΠΣΒΔ3
DESCRIPTION:
END:VEVENT
BEGIN:VEVENT
DTSTART:20210622T110000
DURATION:PT04H00M00S
SUMMARY:[COURSE] ΠΣΒΔ4
DESCRIPTION:
END:VEVENT
BEGIN:VEVENT
DTSTART:20210629T110000
DURATION:PT04H00M00S
SUMMARY:[COURSE] ΠΣΒΔ5
DESCRIPTION:
END:VEVENT
BEGIN:VEVENT
DTSTART:20210706T110000
DURATION:PT04H00M00S
SUMMARY:[COURSE] ΠΣΒΔ6
DESCRIPTION:
END:VEVENT
BEGIN:VEVENT
DTSTART:20210713T110000
DURATION:PT04H00M00S
SUMMARY:[COURSE] ΠΣΒΔ7
DESCRIPTION:
END:VEVENT
BEGIN:VEVENT
DTSTART:20210720T110000
DURATION:PT02H00M00S
SUMMARY:[COURSE] ΠΣΒΔ8
DESCRIPTION:
END:VEVENT
BEGIN:VEVENT
DTSTART:20210727T110000
DURATION:PT02H00M00S
SUMMARY:[COURSE] ΠΣΒΔ εξετάσεις
DESCRIPTION:
END:VEVENT
BEGIN:VEVENT
DTSTART:20210727T130000
DURATION:PT00H00M00S
SUMMARY:[DEADLINE] Σχεδίαση και ανάπτυξη πιλοτικού Πληροφοριακού Συστήματος
DESCRIPTION:Αντικείμενο της εργασίας είναι η μελέτη ενός αιτήματος για την ανάπτυξη ενός Πληροφοριακού Συστήματος (ΠΣ) και η ανάπτυξη ενός πιλοτικού πρωτοτύπου.
Καλείστε να επιλέξετε θέμα που άπτεται των ενδιαφερόντων σας ή να αναζητήσετε ένα σενάριο από υπηρεσιακές απαιτήσεις.
Θα διατυπώσετε συνοπτικά την απαίτηση που υπάρχει με τη μορφή ενός σεναρίου χρήσης, δηλαδή θα γράψετε μια 'ιστορία' που θα περιγράφει -δίχως τεχνικούς όρους, π.χ. αρχείο, βάση δεδομένων (ΒΔ), οθόνη, εκτύπωση- ποια είναι η ανάγκη που πρέπει να καλυφθεί με τη δημιουργία ενός ΠΣ. Στην περιγραφή των απαιτήσεων θα αναφέρονται οι οντότητες (θα αντιστοιχηθούν σε -&gt; πίνακες της ΒΔ του πεδίου εφαρμογής, οι σχετικές πληροφορίες (-&gt; πεδία) και οι χρήσιμες πληροφορίες που θα προκύπτουν (-&gt; ερωτήματα, αναφορές).
Θα υλοποιήσετε ένα λειτουργικό πρωτότυπο σε MS Access που θα περιλαμβάνει:
Σχεδίαση πινάκων
Πεδία (αριθμοί, κείμενο, ημ/νια, Ναι/Όχι, εικόνες)
Σχέσεις των πινάκων (1 προς πολλά)

Φόρμες - οθόνες
Μία για κάθε πίνακα
Μία που θα περιέχει την περιγραφή των απαιτήσεων
Αρχική οθόνη με πλήκτρα που
οδηγούν στις παραπάνω φόρμες
τερματιζουν την εφαρμογή
οδηγούν στα ερωτήματα και τις εκθέσεις

Ερωτήματα (query)
Επιλογής (με κριτήρια και ταξινόμηση)
Ομαδοποίησης (πλήθος, άθροισμα)

Εκθέσεις βασισμένες πάνω σε πίνακες ή ερωτήματα


(deadline: 2021-07-27 13:00:00)
BEGIN:VALARM
TRIGGER:-PT24H
DURATION:PT10H
ACTION:DISPLAY
DESCRIPTION:DEADLINE REMINDER for Σχεδίαση και ανάπτυξη πιλοτικού Πληροφοριακού Συστήματος
END:VALARM
END:VEVENT
END:VCALENDAR
