BEGIN:VCALENDAR
VERSION:2.0
BEGIN:VEVENT
DTSTART:20210528T093000
DURATION:PT00H00M00S
SUMMARY:[DEADLINE] ΕΞΕΤΑΣΕΙΣ
DESCRIPTION:(deadline: 2021-05-28 09:30:00)
BEGIN:VALARM
TRIGGER:-PT24H
DURATION:PT10H
ACTION:DISPLAY
DESCRIPTION:DEADLINE REMINDER for ΕΞΕΤΑΣΕΙΣ
END:VALARM
END:VEVENT
BEGIN:VEVENT
DTSTART:20210528T113000
DURATION:PT00H00M00S
SUMMARY:[DEADLINE] ΕΞΕΤΑΣΕΙΣ1
DESCRIPTION:(deadline: 2021-05-28 11:30:00)
BEGIN:VALARM
TRIGGER:-PT24H
DURATION:PT10H
ACTION:DISPLAY
DESCRIPTION:DEADLINE REMINDER for ΕΞΕΤΑΣΕΙΣ1
END:VALARM
END:VEVENT
END:VCALENDAR
