BEGIN:VCALENDAR
VERSION:2.0
BEGIN:VEVENT
DTSTART:20260422T185618
DURATION:PT00H00M00S
SUMMARY:[DEADLINE] ΟΜΑΔΑ Α
DESCRIPTION:
BEGIN:VALARM
TRIGGER:-PT24H
DURATION:PT10H
ACTION:DISPLAY
DESCRIPTION:DEADLINE REMINDER for ΟΜΑΔΑ Α
END:VALARM
END:VEVENT
BEGIN:VEVENT
DTSTART:20260422T185618
DURATION:PT00H00M00S
SUMMARY:[DEADLINE] ΟΜΑΔΑ Β
DESCRIPTION:
BEGIN:VALARM
TRIGGER:-PT24H
DURATION:PT10H
ACTION:DISPLAY
DESCRIPTION:DEADLINE REMINDER for ΟΜΑΔΑ Β
END:VALARM
END:VEVENT
BEGIN:VEVENT
DTSTART:20260422T185618
DURATION:PT00H00M00S
SUMMARY:[DEADLINE] ΟΜΑΔΑ Γ
DESCRIPTION:
BEGIN:VALARM
TRIGGER:-PT24H
DURATION:PT10H
ACTION:DISPLAY
DESCRIPTION:DEADLINE REMINDER for ΟΜΑΔΑ Γ
END:VALARM
END:VEVENT
END:VCALENDAR
