BEGIN:VCALENDAR
VERSION:2.0
BEGIN:VEVENT
DTSTART:20260422T134804
DURATION:PT00H00M00S
SUMMARY:[DEADLINE] ΥΠΟΣΤΗΡΙΚΤΙΚΟ ΥΛΙΚΟ
DESCRIPTION:
BEGIN:VALARM
TRIGGER:-PT24H
DURATION:PT10H
ACTION:DISPLAY
DESCRIPTION:DEADLINE REMINDER for ΥΠΟΣΤΗΡΙΚΤΙΚΟ ΥΛΙΚΟ
END:VALARM
END:VEVENT
BEGIN:VEVENT
DTSTART:20210528T160000
DURATION:PT00H00M00S
SUMMARY:[DEADLINE] ΕΞΕΤΑΣΕΙΣ
DESCRIPTION:(deadline: 2021-05-28 16:00:00)
BEGIN:VALARM
TRIGGER:-PT24H
DURATION:PT10H
ACTION:DISPLAY
DESCRIPTION:DEADLINE REMINDER for ΕΞΕΤΑΣΕΙΣ
END:VALARM
END:VEVENT
END:VCALENDAR
