BEGIN:VCALENDAR
VERSION:2.0
BEGIN:VEVENT
DTSTART:20210510T080000
DURATION:PT00H00M00S
SUMMARY:[DEADLINE] Τελική Εργασία Κυβερνοασφάλειας
DESCRIPTION:(deadline: 2021-05-10 08:00:00)
BEGIN:VALARM
TRIGGER:-PT24H
DURATION:PT10H
ACTION:DISPLAY
DESCRIPTION:DEADLINE REMINDER for Τελική Εργασία Κυβερνοασφάλειας
END:VALARM
END:VEVENT
END:VCALENDAR
