BEGIN:VCALENDAR
VERSION:2.0
BEGIN:VEVENT
DTSTART:20210524T113000
DURATION:PT00H00M00S
SUMMARY:[DEADLINE] Εξετάσεις
DESCRIPTION:(deadline: 2021-05-24 11:30:00)
BEGIN:VALARM
TRIGGER:-PT24H
DURATION:PT10H
ACTION:DISPLAY
DESCRIPTION:DEADLINE REMINDER for Εξετάσεις
END:VALARM
END:VEVENT
END:VCALENDAR
