BEGIN:VCALENDAR
VERSION:2.0
BEGIN:VEVENT
DTSTART:20210708T090000
DURATION:PT00H00M00S
SUMMARY:[DEADLINE] Τεστ επί της ύλης 1ου μαθήματος
DESCRIPTION:Έχοντας διαβάσει τις πρώτες 3 σελίδες της μελέτης περίπτωσης που σας δόθηκε και το αντίστοιχο υλικό από το εγχειρίδιο και τις διαφάνειες που αναρτήθηκαν, παρακαλώ απαντήσετε τις παρακάτω ερωτήσεις
(deadline: 2021-07-08 09:00:00)
BEGIN:VALARM
TRIGGER:-PT24H
DURATION:PT10H
ACTION:DISPLAY
DESCRIPTION:DEADLINE REMINDER for Τεστ επί της ύλης 1ου μαθήματος
END:VALARM
END:VEVENT
BEGIN:VEVENT
DTSTART:20210708T111500
DURATION:PT00H00M00S
SUMMARY:[DEADLINE] ΘΕΣΜΙΚΟ ΠΛΑΙΣΙΟ ΥΛΟΠΟΙΗΣΗΣ ΕΡΓΩΝ (Εργαστήριο)
DESCRIPTION:(deadline: 2021-07-08 11:15:00)
BEGIN:VALARM
TRIGGER:-PT24H
DURATION:PT10H
ACTION:DISPLAY
DESCRIPTION:DEADLINE REMINDER for ΘΕΣΜΙΚΟ ΠΛΑΙΣΙΟ ΥΛΟΠΟΙΗΣΗΣ ΕΡΓΩΝ (Εργαστήριο)
END:VALARM
END:VEVENT
BEGIN:VEVENT
DTSTART:20210708T230000
DURATION:PT00H00M00S
SUMMARY:[DEADLINE] Θέματα προηγούμενης εξεταστικής (από 1ο & 2ο μάθημα)
DESCRIPTION:Αν δεν προσδιορίζεται διαφορετικά, οι ερωτήσεις  της παρούσας εξέτασης βασίζονται στην Μελέτη Περίπτωσης "ΨΗΦΙΟΠΟΙΗΣΗ ΑΡΧΕΙΟΥ ΑΚΙΝΗΤΩΝ ΤΗΣ ΓΓ ΠΡΟΝΟΙΑΣ", που διδάχθηκε  στο πλαίσιο του Εργαστηρίου.
(deadline: 2021-07-08 23:00:00)
BEGIN:VALARM
TRIGGER:-PT24H
DURATION:PT10H
ACTION:DISPLAY
DESCRIPTION:DEADLINE REMINDER for Θέματα προηγούμενης εξεταστικής (από 1ο & 2ο μάθημα)
END:VALARM
END:VEVENT
BEGIN:VEVENT
DTSTART:20210708T230000
DURATION:PT00H00M00S
SUMMARY:[DEADLINE] Θέματα προηγούμενης εξεταστικής (από 1ο & 2ο μάθημα) (Αντίγραφο)
DESCRIPTION:Αν δεν προσδιορίζεται διαφορετικά, οι ερωτήσεις  της παρούσας εξέτασης βασίζονται στην Μελέτη Περίπτωσης "ΨΗΦΙΟΠΟΙΗΣΗ ΑΡΧΕΙΟΥ ΑΚΙΝΗΤΩΝ ΤΗΣ ΓΓ ΠΡΟΝΟΙΑΣ", που διδάχθηκε  στο πλαίσιο του Εργαστηρίου.
(deadline: 2021-07-08 23:00:00)
BEGIN:VALARM
TRIGGER:-PT24H
DURATION:PT10H
ACTION:DISPLAY
DESCRIPTION:DEADLINE REMINDER for Θέματα προηγούμενης εξεταστικής (από 1ο & 2ο μάθημα) (Αντίγραφο)
END:VALARM
END:VEVENT
BEGIN:VEVENT
DTSTART:20210708T230000
DURATION:PT00H00M00S
SUMMARY:[DEADLINE] Ερωτήσεις 1
DESCRIPTION:(deadline: 2021-07-08 23:00:00)
BEGIN:VALARM
TRIGGER:-PT24H
DURATION:PT10H
ACTION:DISPLAY
DESCRIPTION:DEADLINE REMINDER for Ερωτήσεις 1
END:VALARM
END:VEVENT
END:VCALENDAR
