BEGIN:VCALENDAR
VERSION:2.0
BEGIN:VEVENT
DTSTART:20210514T083000
DURATION:PT00H00M00S
SUMMARY:[DEADLINE] ΠΟΛΙΤΙΚΗ ΠΡΟΣΤΑΣΙΑ ΚΑΙ ΔΙΑΧΕΙΡΙΣΗ ΚΙΝΔΥΝΩΝ
DESCRIPTION:(deadline: 2021-05-14 08:30:00)
BEGIN:VALARM
TRIGGER:-PT24H
DURATION:PT10H
ACTION:DISPLAY
DESCRIPTION:DEADLINE REMINDER for ΠΟΛΙΤΙΚΗ ΠΡΟΣΤΑΣΙΑ ΚΑΙ ΔΙΑΧΕΙΡΙΣΗ ΚΙΝΔΥΝΩΝ
END:VALARM
END:VEVENT
END:VCALENDAR
