BEGIN:VCALENDAR
VERSION:2.0
BEGIN:VEVENT
DTSTART:20260422T144933
DURATION:PT00H00M00S
SUMMARY:[DEADLINE] ΥΛΙΚΟ
DESCRIPTION:
BEGIN:VALARM
TRIGGER:-PT24H
DURATION:PT10H
ACTION:DISPLAY
DESCRIPTION:DEADLINE REMINDER for ΥΛΙΚΟ
END:VALARM
END:VEVENT
BEGIN:VEVENT
DTSTART:20210727T171500
DURATION:PT00H00M00S
SUMMARY:[DEADLINE] ΕΞΕΤΑΣΕΙΣ ΕΘΝΙΚΕΣ ΠΟΛΙΤΙΚΕΣ ΕΝΤΑΞΗΣ
DESCRIPTION:(deadline: 2021-07-27 17:15:00)
BEGIN:VALARM
TRIGGER:-PT24H
DURATION:PT10H
ACTION:DISPLAY
DESCRIPTION:DEADLINE REMINDER for ΕΞΕΤΑΣΕΙΣ ΕΘΝΙΚΕΣ ΠΟΛΙΤΙΚΕΣ ΕΝΤΑΞΗΣ
END:VALARM
END:VEVENT
END:VCALENDAR
