BEGIN:VCALENDAR
VERSION:2.0
BEGIN:VEVENT
DTSTART:20260422T160757
DURATION:PT00H00M00S
SUMMARY:[DEADLINE] ΥΛΙΚΟ
DESCRIPTION:
BEGIN:VALARM
TRIGGER:-PT24H
DURATION:PT10H
ACTION:DISPLAY
DESCRIPTION:DEADLINE REMINDER for ΥΛΙΚΟ
END:VALARM
END:VEVENT
BEGIN:VEVENT
DTSTART:20210716T111500
DURATION:PT00H00M00S
SUMMARY:[DEADLINE] ΕΞΕΤΑΣΕΙΣ ΧΩΡΙΚΟΣ ΣΧΕΔΙΑΣΜΟΣ - ΧΩΡΙΚΕΣ ΠΟΛΙΤΙΚΕΣ
DESCRIPTION:(deadline: 2021-07-16 11:15:00)
BEGIN:VALARM
TRIGGER:-PT24H
DURATION:PT10H
ACTION:DISPLAY
DESCRIPTION:DEADLINE REMINDER for ΕΞΕΤΑΣΕΙΣ ΧΩΡΙΚΟΣ ΣΧΕΔΙΑΣΜΟΣ - ΧΩΡΙΚΕΣ ΠΟΛΙΤΙΚΕΣ
END:VALARM
END:VEVENT
END:VCALENDAR
