BEGIN:VCALENDAR
VERSION:2.0
BEGIN:VEVENT
DTSTART:20260422T173416
DURATION:PT00H00M00S
SUMMARY:[DEADLINE] ΥΛΙΚΟ ΤΡΥΠΟΣΚΟΥΦΗΣ
DESCRIPTION:
BEGIN:VALARM
TRIGGER:-PT24H
DURATION:PT10H
ACTION:DISPLAY
DESCRIPTION:DEADLINE REMINDER for ΥΛΙΚΟ ΤΡΥΠΟΣΚΟΥΦΗΣ
END:VALARM
END:VEVENT
BEGIN:VEVENT
DTSTART:20260422T173416
DURATION:PT00H00M00S
SUMMARY:[DEADLINE] ΥΛΙΚΟ ΠΑΛΛΗΣ
DESCRIPTION:
BEGIN:VALARM
TRIGGER:-PT24H
DURATION:PT10H
ACTION:DISPLAY
DESCRIPTION:DEADLINE REMINDER for ΥΛΙΚΟ ΠΑΛΛΗΣ
END:VALARM
END:VEVENT
BEGIN:VEVENT
DTSTART:20210728T144000
DURATION:PT00H00M00S
SUMMARY:[DEADLINE] ΕΞΕΤΑΣΕΙΣ ΟΙΚΟΝΟΜΙΚΑ ΠΕΡΙΦΕΡΕΙΑΚΗΣ - ΤΟΠΙΚΗΣ ΑΥΤΟΔΙΟΙΚΗΣΗΣ
DESCRIPTION:(deadline: 2021-07-28 14:40:00)
BEGIN:VALARM
TRIGGER:-PT24H
DURATION:PT10H
ACTION:DISPLAY
DESCRIPTION:DEADLINE REMINDER for ΕΞΕΤΑΣΕΙΣ ΟΙΚΟΝΟΜΙΚΑ ΠΕΡΙΦΕΡΕΙΑΚΗΣ - ΤΟΠΙΚΗΣ ΑΥΤΟΔΙΟΙΚΗΣΗΣ
END:VALARM
END:VEVENT
END:VCALENDAR
