BEGIN:VCALENDAR
VERSION:2.0
BEGIN:VEVENT
DTSTART:20210729T114000
DURATION:PT00H00M00S
SUMMARY:[DEADLINE] ΕΞΕΤΑΣΕΙΣ ΑΠΟΚΕΝΤΡΩΣΗ ΑΥΤΟΔΙΟΙΚΗΣΗ
DESCRIPTION:(deadline: 2021-07-29 11:40:00)
BEGIN:VALARM
TRIGGER:-PT24H
DURATION:PT10H
ACTION:DISPLAY
DESCRIPTION:DEADLINE REMINDER for ΕΞΕΤΑΣΕΙΣ ΑΠΟΚΕΝΤΡΩΣΗ ΑΥΤΟΔΙΟΙΚΗΣΗ
END:VALARM
END:VEVENT
END:VCALENDAR
